BEGIN:VCALENDAR
VERSION:2.0
PRODID:-//Montgomery County (MD) Alumnae Chapter - ECPv6.15.20//NONSGML v1.0//EN
CALSCALE:GREGORIAN
METHOD:PUBLISH
X-WR-CALNAME:Montgomery County (MD) Alumnae Chapter
X-ORIGINAL-URL:https://www.mcacdst.org
X-WR-CALDESC:Events for Montgomery County (MD) Alumnae Chapter
REFRESH-INTERVAL;VALUE=DURATION:PT1H
X-Robots-Tag:noindex
X-PUBLISHED-TTL:PT1H
BEGIN:VTIMEZONE
TZID:America/New_York
BEGIN:DAYLIGHT
TZOFFSETFROM:-0500
TZOFFSETTO:-0400
TZNAME:EDT
DTSTART:20250309T070000
END:DAYLIGHT
BEGIN:STANDARD
TZOFFSETFROM:-0400
TZOFFSETTO:-0500
TZNAME:EST
DTSTART:20251102T060000
END:STANDARD
BEGIN:DAYLIGHT
TZOFFSETFROM:-0500
TZOFFSETTO:-0400
TZNAME:EDT
DTSTART:20260308T070000
END:DAYLIGHT
BEGIN:STANDARD
TZOFFSETFROM:-0400
TZOFFSETTO:-0500
TZNAME:EST
DTSTART:20261101T060000
END:STANDARD
BEGIN:DAYLIGHT
TZOFFSETFROM:-0500
TZOFFSETTO:-0400
TZNAME:EDT
DTSTART:20270314T070000
END:DAYLIGHT
BEGIN:STANDARD
TZOFFSETFROM:-0400
TZOFFSETTO:-0500
TZNAME:EST
DTSTART:20271107T060000
END:STANDARD
END:VTIMEZONE
BEGIN:VEVENT
DTSTART;TZID=America/New_York:20260119T093000
DTEND;TZID=America/New_York:20260119T120000
DTSTAMP:20260423T140442
CREATED:20251222T232343Z
LAST-MODIFIED:20260106T155546Z
UID:3502-1768815000-1768824000@www.mcacdst.org
SUMMARY:MLK Day of Service 2026: Uniting in the Dream
DESCRIPTION:Join MCAC for our 13th Annual MLK Day of Service: Uniting in the Dream \nJanuary 19\, 2026\, 9:30 am to Noon – Silver Spring Civic Building\, 1 Veterans Plaza\, Silver Spring\, MD \nUniting the community while engaging in service projects to benefit members of the Montgomery County community and to honor the legacy of Dr. Martin Luther King\, Jr. \nOpen to the community however please register using the link below \nREGISTRATION HERE \nAlso register for the Children’s National Hospital Blood Drive! HERE.
URL:https://www.mcacdst.org/event/mlk-day-of-service-2026/
LOCATION:1 Veterans Plaza Silver Spring\, MD 20910\, 1 Veterans Plaza\, Silver Spring\, MD\, 20910\, United States
CATEGORIES:Community Service,Event,Public Event
ATTACH;FMTTYPE=image/jpeg:https://www.mcacdst.org/wp-content/uploads/2025/12/MLK-DAY-Flyer-with-QR-Code.jpg
ORGANIZER;CN="MCAC":MAILTO:info@mcacdst.org
END:VEVENT
END:VCALENDAR