BEGIN:VCALENDAR
VERSION:2.0
PRODID:-//Montgomery County (MD) Alumnae Chapter - ECPv6.15.20//NONSGML v1.0//EN
CALSCALE:GREGORIAN
METHOD:PUBLISH
X-WR-CALNAME:Montgomery County (MD) Alumnae Chapter
X-ORIGINAL-URL:https://www.mcacdst.org
X-WR-CALDESC:Events for Montgomery County (MD) Alumnae Chapter
REFRESH-INTERVAL;VALUE=DURATION:PT1H
X-Robots-Tag:noindex
X-PUBLISHED-TTL:PT1H
BEGIN:VTIMEZONE
TZID:America/New_York
BEGIN:DAYLIGHT
TZOFFSETFROM:-0500
TZOFFSETTO:-0400
TZNAME:EDT
DTSTART:20250309T070000
END:DAYLIGHT
BEGIN:STANDARD
TZOFFSETFROM:-0400
TZOFFSETTO:-0500
TZNAME:EST
DTSTART:20251102T060000
END:STANDARD
BEGIN:DAYLIGHT
TZOFFSETFROM:-0500
TZOFFSETTO:-0400
TZNAME:EDT
DTSTART:20260308T070000
END:DAYLIGHT
BEGIN:STANDARD
TZOFFSETFROM:-0400
TZOFFSETTO:-0500
TZNAME:EST
DTSTART:20261101T060000
END:STANDARD
BEGIN:DAYLIGHT
TZOFFSETFROM:-0500
TZOFFSETTO:-0400
TZNAME:EDT
DTSTART:20270314T070000
END:DAYLIGHT
BEGIN:STANDARD
TZOFFSETFROM:-0400
TZOFFSETTO:-0500
TZNAME:EST
DTSTART:20271107T060000
END:STANDARD
END:VTIMEZONE
BEGIN:VEVENT
DTSTART;TZID=America/New_York:20260215T133000
DTEND;TZID=America/New_York:20260215T173000
DTSTAMP:20260423T191106
CREATED:20250929T174556Z
LAST-MODIFIED:20251117T232531Z
UID:3602-1771162200-1771176600@www.mcacdst.org
SUMMARY:A Jazzy RnB Affair
DESCRIPTION:Tickets are on sale NOW on Eventbrite! This event is sure to sell out. Purchase your tickets today for the best seats! \nClick HERE to purchase tickets! \n 
URL:https://www.mcacdst.org/event/a-jazzy-rnb-affair/
LOCATION:Maryland Jockey Club\, Rt. 198 & Racetrack Road\, Laurel\, MD\, 20707\, United States
CATEGORIES:Fundraiser,Public Event
ATTACH;FMTTYPE=image/jpeg:https://www.mcacdst.org/wp-content/uploads/2025/10/Jazz-Brunch-Flyer-10.1.25.jpg
END:VEVENT
BEGIN:VEVENT
DTSTART;TZID=America/New_York:20260227T120000
DTEND;TZID=America/New_York:20260227T130000
DTSTAMP:20260423T191106
CREATED:20260129T025239Z
LAST-MODIFIED:20260129T025239Z
UID:3684-1772193600-1772197200@www.mcacdst.org
SUMMARY:Pulse Check: A Live Heart Health Experience
DESCRIPTION:Two of the area’s top cardiologists will discuss the risks\, share treatment options\, and discuss how the latest weight loss drugs affect your heart. \nAccording to the American Heart Association\, cardiovascular diseases\, including all types of heart disease and stroke\, claim more lives in the U.S. each year than all forms of cancer and accidental deaths — the #2 and #3 causes of death — combined. \nJoin the Montgomery Co. (MD) Alumnae Chapter of Delta Sigma Theta Sorority\, Inc. for an interactive and informative webinar on heart disease. Learn about the causes\, the importance of knowing your numbers and what you can do to live a heart healthy life. This webinar is FREE\, but you must register to attend. Click HERE
URL:https://www.mcacdst.org/event/pulse-check-a-live-heart-health-experience/
LOCATION:Zoom
CATEGORIES:Physical and Mental Health,Public Event
ATTACH;FMTTYPE=image/png:https://www.mcacdst.org/wp-content/uploads/2026/01/Pulse-Check-A-Live-Heart-Heatlh-Experience2.png
ORGANIZER;CN="MCAC":MAILTO:info@mcacdst.org
END:VEVENT
BEGIN:VEVENT
DTSTART;TZID=America/New_York:20260228T120000
DTEND;TZID=America/New_York:20260228T130000
DTSTAMP:20260423T191106
CREATED:20260212T011006Z
LAST-MODIFIED:20260212T011006Z
UID:3696-1772280000-1772283600@www.mcacdst.org
SUMMARY:Knowledge Power Hour-Mastering Repayment Webinar
DESCRIPTION:Join MCAC for a Knowledge Power Hour on Mastering Repayment – A Student Loan Survival Guide on February 28\, 2026 at noon. \nMajor changes to federal student loan repayment and forgiveness are reshaping how much borrowers owe\, how long they must pay\, and who qualifies for relief. Many borrowers are now seeing higher payments\, lost benefits\, or wage garnishment\, often without realizing why. Waiting to act could mean missing forgiveness\, losing protections\, or facing wage and tax refund garnishment.\nWhether you’re in repayment\, in public service\, or at risk of default\, Soror Candace Pearson\, student loan expert and Founder & CEO of CCP Educational Services LLC\, will provide clear\, actionable guidance to help you move forward with confidence.
URL:https://www.mcacdst.org/event/knowledge-power-hour-mastering-repayment-webinar/
CATEGORIES:Economic Development,Public Event
ATTACH;FMTTYPE=image/png:https://www.mcacdst.org/wp-content/uploads/2026/02/Knowledge-power-HOUR.png
END:VEVENT
BEGIN:VEVENT
DTSTART;TZID=America/New_York:20260328T090000
DTEND;TZID=America/New_York:20260328T140000
DTSTAMP:20260423T191106
CREATED:20220925T003919Z
LAST-MODIFIED:20260304T223216Z
UID:2714-1774688400-1774706400@www.mcacdst.org
SUMMARY:Blood Drive for Sickle Cell Awareness
DESCRIPTION:Please join Montgomery County (MD) Alumnae Chapter for the Sickle Blood Drive on Saturday March 28\, 2026 from 9am-2pm. We will be hosting the blood drive at Mt. Calvary Baptist Church\, the Leon Grant Family Life Center.  608 North Horners Lane Rockville\, MD 20850 \nPlease call 1-800-RED CROSS (1-800-733-2767) or visit RedCrossBlood.org and enter: “MtCalvaryBaptistChurch” to schedule an appointment or contact Elbridge James at 301-213-9657 \n 
URL:https://www.mcacdst.org/event/mcac-emergency-response-sickle-blood-drive/
LOCATION:Mt. Calavry Baptist Church\, 608 N Horners Lane\, Rockville\, MD\, 20850\, United States
CATEGORIES:Community Service,Event,Public Event
ATTACH;FMTTYPE=image/png:https://www.mcacdst.org/wp-content/uploads/2026/03/Blood-drive.png
END:VEVENT
BEGIN:VEVENT
DTSTART;TZID=America/New_York:20260425T090000
DTEND;TZID=America/New_York:20260425T120000
DTSTAMP:20260423T191106
CREATED:20260325T160551Z
LAST-MODIFIED:20260325T160551Z
UID:3725-1777107600-1777118400@www.mcacdst.org
SUMMARY:MCAC DST's Community Document Shredding Event
DESCRIPTION:Join us this April 26th for MCAC DST’s Community Document Shredding Event. Spring is a perfect time to clear out the clutter–and that includes sensitive documents that could put your personal information at risk. Dispose of old bank statements\, medical records\, tax documents\, bills\, and more! Prevent identity theft\, declutter your home or office\, and support a safer\, more informed community! \n  \n 
URL:https://www.mcacdst.org/event/mcac-dsts-community-document-shredding-event/
LOCATION:The People’s Community Baptist Church\, 31 Norwood Road\, Silver Spring\, 20905\, United States
CATEGORIES:Economic Development,Public Event
ATTACH;FMTTYPE=image/webp:https://www.mcacdst.org/wp-content/uploads/2026/03/MCAC-DRIVE-THRU-SHREDDING-EVENT.webp
END:VEVENT
BEGIN:VEVENT
DTSTART;TZID=America/New_York:20260426T143000
DTEND;TZID=America/New_York:20260426T173000
DTSTAMP:20260423T191106
CREATED:20260402T201547Z
LAST-MODIFIED:20260402T201900Z
UID:3736-1777213800-1777224600@www.mcacdst.org
SUMMARY:Michael - Red Carpet Event
DESCRIPTION:Get ready for an unforgettable afternoon celebrating the legacy\, music\, and magic of the King of Pop! The Montgomery County Alumnae (MD) Chapter\, Arts & Letters Committee invites you to an exclusive outing to see the highly anticipated film Michael—a cinematic experience you’ll be talking about long after the credits roll. Get your tickets HERE \nDate: Sunday\, April 26 \nMovie Time: 3:00 PM \nDoors Open: 2:30 PM \nThe celebration doesn’t stop there! Join us immediately following the film for a lively reception at McGinty’s Public House —where we’ll gather\, connect\, and keep the energy going with great conversation\, food\, and fellowship. \nFriends and Family are welcome! \n 
URL:https://www.mcacdst.org/event/michael-red-carpet-event/
LOCATION:Regal Cinemas Majestic 20 & IMAX\, 900 Ellsworth Dr\, Silver Spring\, 20910\, United States
CATEGORIES:Arts and Letters,Delta Red Carpet Premiere,Event,Public Event
ATTACH;FMTTYPE=image/png:https://www.mcacdst.org/wp-content/uploads/2026/04/Michael-Movie-Red-Carpet-Event-2026.png
END:VEVENT
BEGIN:VEVENT
DTSTART;TZID=America/New_York:20260531T140000
DTEND;TZID=America/New_York:20260531T170000
DTSTAMP:20260423T191106
CREATED:20260402T200655Z
LAST-MODIFIED:20260402T200655Z
UID:3734-1780236000-1780246800@www.mcacdst.org
SUMMARY:Designer Bag Bingo
DESCRIPTION:Join us for Bingo\, Beats and Designer Bag prizes to raise funds for programs and scholarships for Montgomery County (MD) students on May 31\, 2026 from 2:00-5:00pm. \nEarly Bird tickets on sale until April 30th! HERE
URL:https://www.mcacdst.org/event/designer-bag-bingo/
LOCATION:1 Veterans Plaza Silver Spring\, MD 20910\, 1 Veterans Plaza\, Silver Spring\, MD\, 20910\, United States
CATEGORIES:Event,Fundraiser,Public Event
ATTACH;FMTTYPE=image/webp:https://www.mcacdst.org/wp-content/uploads/2026/04/Bingo-3.31.26-v2.webp
END:VEVENT
END:VCALENDAR