BEGIN:VCALENDAR
VERSION:2.0
PRODID:-//Montgomery County (MD) Alumnae Chapter - ECPv6.15.20//NONSGML v1.0//EN
CALSCALE:GREGORIAN
METHOD:PUBLISH
X-WR-CALNAME:Montgomery County (MD) Alumnae Chapter
X-ORIGINAL-URL:https://www.mcacdst.org
X-WR-CALDESC:Events for Montgomery County (MD) Alumnae Chapter
REFRESH-INTERVAL;VALUE=DURATION:PT1H
X-Robots-Tag:noindex
X-PUBLISHED-TTL:PT1H
BEGIN:VTIMEZONE
TZID:America/New_York
BEGIN:DAYLIGHT
TZOFFSETFROM:-0500
TZOFFSETTO:-0400
TZNAME:EDT
DTSTART:20240310T070000
END:DAYLIGHT
BEGIN:STANDARD
TZOFFSETFROM:-0400
TZOFFSETTO:-0500
TZNAME:EST
DTSTART:20241103T060000
END:STANDARD
BEGIN:DAYLIGHT
TZOFFSETFROM:-0500
TZOFFSETTO:-0400
TZNAME:EDT
DTSTART:20250309T070000
END:DAYLIGHT
BEGIN:STANDARD
TZOFFSETFROM:-0400
TZOFFSETTO:-0500
TZNAME:EST
DTSTART:20251102T060000
END:STANDARD
BEGIN:DAYLIGHT
TZOFFSETFROM:-0500
TZOFFSETTO:-0400
TZNAME:EDT
DTSTART:20260308T070000
END:DAYLIGHT
BEGIN:STANDARD
TZOFFSETFROM:-0400
TZOFFSETTO:-0500
TZNAME:EST
DTSTART:20261101T060000
END:STANDARD
BEGIN:DAYLIGHT
TZOFFSETFROM:-0500
TZOFFSETTO:-0400
TZNAME:EDT
DTSTART:20270314T070000
END:DAYLIGHT
BEGIN:STANDARD
TZOFFSETFROM:-0400
TZOFFSETTO:-0500
TZNAME:EST
DTSTART:20271107T060000
END:STANDARD
END:VTIMEZONE
BEGIN:VEVENT
DTSTART;TZID=America/New_York:20260119T093000
DTEND;TZID=America/New_York:20260119T120000
DTSTAMP:20260423T194750
CREATED:20251222T232343Z
LAST-MODIFIED:20260106T155546Z
UID:3502-1768815000-1768824000@www.mcacdst.org
SUMMARY:MLK Day of Service 2026: Uniting in the Dream
DESCRIPTION:Join MCAC for our 13th Annual MLK Day of Service: Uniting in the Dream \nJanuary 19\, 2026\, 9:30 am to Noon – Silver Spring Civic Building\, 1 Veterans Plaza\, Silver Spring\, MD \nUniting the community while engaging in service projects to benefit members of the Montgomery County community and to honor the legacy of Dr. Martin Luther King\, Jr. \nOpen to the community however please register using the link below \nREGISTRATION HERE \nAlso register for the Children’s National Hospital Blood Drive! HERE.
URL:https://www.mcacdst.org/event/mlk-day-of-service-2026/
LOCATION:1 Veterans Plaza Silver Spring\, MD 20910\, 1 Veterans Plaza\, Silver Spring\, MD\, 20910\, United States
CATEGORIES:Community Service,Event,Public Event
ATTACH;FMTTYPE=image/jpeg:https://www.mcacdst.org/wp-content/uploads/2025/12/MLK-DAY-Flyer-with-QR-Code.jpg
ORGANIZER;CN="MCAC":MAILTO:info@mcacdst.org
END:VEVENT
BEGIN:VEVENT
DTSTART;TZID=America/New_York:20251115T110000
DTEND;TZID=America/New_York:20251115T150000
DTSTAMP:20260423T194750
CREATED:20221003T020400Z
LAST-MODIFIED:20251016T173600Z
UID:2732-1763204400-1763218800@www.mcacdst.org
SUMMARY:MCAC Reclamation Round Up 2025
DESCRIPTION:Welcoming all Sorors back home to Delta! Tell a Soror\, Bring a Soror! \nJoin us on Saturday\, November 15\, 2025 at the Ross Boddy Neighborhood Recreation Center for Fellowship\, Games\, Vendors\, meet our chapter leadership team! Wear your favorite Delta Paraphernalia! Learn more about MCAC and how you can join us in making an impact in our community. \nIf you’re currently a member of MCAC\, bring a Soror you know who is looking to join a chapter in the area! \nREGISTRATION LINK: HERE
URL:https://www.mcacdst.org/event/homecoming-a-reclamation-event/
LOCATION:Ross Boddy Neighborhood Recreation Center\, 18529 Brooke Road\, Ashton-Sandy Spring\, MD\, 20860\, United States
CATEGORIES:Delta Only Event,Event,Membership Services
ATTACH;FMTTYPE=image/png:https://www.mcacdst.org/wp-content/uploads/2025/10/MCAC-Reclamation.png
ORGANIZER;CN="MCAC-Membership Committee":MAILTO:membershipservices@mcacdst.org
END:VEVENT
BEGIN:VEVENT
DTSTART;TZID=America/New_York:20251109T130000
DTEND;TZID=America/New_York:20251109T170000
DTSTAMP:20260423T194750
CREATED:20251016T171835Z
LAST-MODIFIED:20251016T171857Z
UID:3622-1762693200-1762707600@www.mcacdst.org
SUMMARY:FUWANA (Fula Women Association of North America) Fundraising Luncheon
DESCRIPTION:Dear Partners\, Sponsors\, Friends and Family\,\nThe Fula Women Association of North America (FUWANA) is a Maryland-based NGO. FUWANA aims to support women\, girls\, and youth across West and Central Africa by offering education\, training opportunities\, and financial assistance. FUWANA particularly prioritizes initiatives in education and adult literacy. To learn more about FUWANA\, go to: http://fuwana.org/. \nThe theme of this fundraiser is literacy and learning in elementary schools.\nThis special event presents a unique opportunity for us to come together\, strengthen our partnership\, and support the continued success of our important initiatives.\nWe are supporting elementary students in Africa who live under difficult conditions with a holistic view\, community-centered approach\, providing school supplies\, tutoring\, birth certificates for displaced students\, hygiene education and the creation of school gardens. We give special importance to girls to keep them in school in order to protect them from violence and shield them from early marriage and teenage pregnancy. \nYou can also send in your donation\, either by check to FUWANA\, 7720 Suthard Drive\, Derwood\, MD 20855; by Zelle at fuwanausa@gmail.com\nThank you for your ongoing generosity and commitment. We look forward to celebrating with you and making a difference together!
URL:https://www.mcacdst.org/event/fuwana-fula-women-association-of-north-america-fundraising-luncheon/
LOCATION:1 Veterans Plaza Silver Spring\, MD 20910\, 1 Veterans Plaza\, Silver Spring\, MD\, 20910\, United States
CATEGORIES:Community Service
ATTACH;FMTTYPE=image/png:https://www.mcacdst.org/wp-content/uploads/2025/10/FUWANA-2025-Luncheon-for-literacy-learning-Flyer.png
END:VEVENT
BEGIN:VEVENT
DTSTART;TZID=America/New_York:20251005T083000
DTEND;TZID=America/New_York:20251005T103000
DTSTAMP:20260423T194750
CREATED:20250929T192707Z
LAST-MODIFIED:20250929T192707Z
UID:3612-1759653000-1759660200@www.mcacdst.org
SUMMARY:St. Jude Walk/Run DC 2025
DESCRIPTION:The St. Jude Walk/Run DC is on October 4th!\n\n\nThere’s still time to support our Montgomery County Alumnae Chapter DST Team.\n\n\nPlease donate today to help us raise money for cancer research and to support children and their families: https://tinyurl.com/STJudeMCAC\n\n\n\n#mcacdst #dst1913 #StJudeWalkRun
URL:https://www.mcacdst.org/event/st-jude-walk-run-dc-2025/
LOCATION:National Harbor\, 165 Waterfront Street\, Oxon Hill\, MD\, 20745\, United States
CATEGORIES:Physical and Mental Health,Public Event
ATTACH;FMTTYPE=image/png:https://www.mcacdst.org/wp-content/uploads/2025/09/St-Jude-Walk-Run-DC-MCAC.png
END:VEVENT
BEGIN:VEVENT
DTSTART;TZID=America/New_York:20250629T130000
DTEND;TZID=America/New_York:20250629T170000
DTSTAMP:20260423T194750
CREATED:20250610T010409Z
LAST-MODIFIED:20250610T010617Z
UID:3569-1751202000-1751216400@www.mcacdst.org
SUMMARY:Coleman Love Cookowt 2025
DESCRIPTION:Presented by the Sorors of MCAC – Delta Sigma Theta Sorority\, Inc. and The Brothers of Mu Nu Chapter of Omega Psi Phi Fraternity\, Inc.  View the QR code to register for this free community event.
URL:https://www.mcacdst.org/event/coleman-love-cookowt-2025/
CATEGORIES:Event
ATTACH;FMTTYPE=image/png:https://www.mcacdst.org/wp-content/uploads/2025/06/Coleman-love.png
END:VEVENT
END:VCALENDAR